BEGIN:VCALENDAR
VERSION:2.0
PRODID:spatie/icalendar-generator
DESCRIPTION:Veranstaltungen von 
X-WR-CALDESC:Veranstaltungen von 
REFRESH-INTERVAL;VALUE=DURATION:PT1440M
X-PUBLISHED-TTL:PT1440M
BEGIN:VTIMEZONE
TZID:Etc/GMT-1
BEGIN:STANDARD
DTSTART:20200310T150000Z
TZOFFSETFROM:+0100
TZOFFSETTO:+0100
END:STANDARD
END:VTIMEZONE
BEGIN:VTIMEZONE
TZID:UTC
BEGIN:STANDARD
DTSTART:20250724T085504Z
TZOFFSETFROM:+0000
TZOFFSETTO:+0000
END:STANDARD
END:VTIMEZONE
BEGIN:VEVENT
UID:160-76
DTSTAMP:20260420T085504Z
SUMMARY:Nikolausmarkt
LOCATION:
ORGANIZER;CN=admin:MAILTO:krostewitz@web.de
DTSTART;TZID=Etc/GMT-1:20201205T150000
DTEND;TZID=Etc/GMT-1:20201206T200000
X-ALT-DESC;FMTTYPE=TEXT/HTML:ABSAGE: Wir löschen das ganze nicht\, aber wi
 r verschieben es. Unser diesjähriger St. Nikolausmarkt findet nicht statt
 . Wir freuen uns\, euch alle im nächsten Jahr an unseren Ständen begrü
 ßen zu dürfen Der St. Nikolausmarkt in Heusenstamm lockt alljährlich vi
 ele tausend Besucher am zweiten Adventwochenende nach Heusenstamm. Vom his
 torischen Torbau\, dem Kirchplatz der Pfarrkirche St. Cäcilia\,&amp;hellip\;
CATEGORIES:Veranstaltung
URL;VALUE=URI:https://www.konkordia-1849.de/mc-events/nikolausmarkt/
METHOD:PUBLISH
END:VEVENT
END:VCALENDAR